BEGIN:VCALENDAR
VERSION:2.0
PRODID:-//Manitoba Crop Alliance - ECPv6.15.20//NONSGML v1.0//EN
CALSCALE:GREGORIAN
METHOD:PUBLISH
X-WR-CALNAME:Manitoba Crop Alliance
X-ORIGINAL-URL:https://mbcropalliance.ca
X-WR-CALDESC:Events for Manitoba Crop Alliance
REFRESH-INTERVAL;VALUE=DURATION:PT1H
X-Robots-Tag:noindex
X-PUBLISHED-TTL:PT1H
BEGIN:VTIMEZONE
TZID:America/Winnipeg
BEGIN:DAYLIGHT
TZOFFSETFROM:-0600
TZOFFSETTO:-0500
TZNAME:CDT
DTSTART:20240310T080000
END:DAYLIGHT
BEGIN:STANDARD
TZOFFSETFROM:-0500
TZOFFSETTO:-0600
TZNAME:CST
DTSTART:20241103T070000
END:STANDARD
BEGIN:DAYLIGHT
TZOFFSETFROM:-0600
TZOFFSETTO:-0500
TZNAME:CDT
DTSTART:20250309T080000
END:DAYLIGHT
BEGIN:STANDARD
TZOFFSETFROM:-0500
TZOFFSETTO:-0600
TZNAME:CST
DTSTART:20251102T070000
END:STANDARD
BEGIN:DAYLIGHT
TZOFFSETFROM:-0600
TZOFFSETTO:-0500
TZNAME:CDT
DTSTART:20260308T080000
END:DAYLIGHT
BEGIN:STANDARD
TZOFFSETFROM:-0500
TZOFFSETTO:-0600
TZNAME:CST
DTSTART:20261101T070000
END:STANDARD
END:VTIMEZONE
BEGIN:VEVENT
DTSTART;TZID=America/Winnipeg:20251202T090000
DTEND;TZID=America/Winnipeg:20251202T100000
DTSTAMP:20260420T055229
CREATED:20251021T221245Z
LAST-MODIFIED:20251022T152623Z
UID:4773-1764666000-1764669600@mbcropalliance.ca
SUMMARY:Harvesting the Future: Farm Succession Planning & Tax-Smart Strategies
DESCRIPTION:MNP’s Edith Frison will discuss the key elements of farm succession planning\, focusing on securing the future of your agricultural business for the next generation. We’ll explore practical strategies for transitioning ownership\, minimizing family conflict and preserving farm legacy. In addition\, we’ll highlight tax-smart approaches designed to maximize financial benefits while ensuring compliance with Canadian regulations. Producers will gain actionable insights to help safeguard their farm’s longevity and financial health. \nSpeaker Bio \nEdith Frison is a tax specialist with MNP in Brandon\, serving primarily agricultural clients for the past two decades. She gets to know her clients to clearly determine their needs\, then designs a plan to help them successfully move forward. Frison works closely with her clients to set up their operation in the most tax-efficient manner\, with the goal of minimizing their tax burden. Her services include corporate reorganizations\, farm planning\, succession planning and will review. \nFrison graduated with a Bachelor of Business Administration (BBA co-op) from the Université Sainte-Anne (Baccalauréat en administration des affaires – BAA) in 1999. She is a Chartered Professional Accountant (CPA)\, qualifying as a Chartered Accountant (CA) in 2009\, and completed the Canadian Institute of Chartered Accountants (CICA) Tax Specialist program in 2010. \nREGISTER TODAY
URL:https://mbcropalliance.ca/event-listing/harvesting-the-future-roots-to-results-webinar-series/
LOCATION:Manitoba
CATEGORIES:MCA Events
ATTACH;FMTTYPE=image/png:https://mbcropalliance.ca/wp-content/uploads/2025/10/MCA_SM_Webinar-Roots-to-Results-series-X-v22.png
ORGANIZER;CN="Manitoba Crop Alliance":MAILTO:hello@mbcropalliance.ca
END:VEVENT
END:VCALENDAR